BEGIN:VCALENDAR
VERSION:2.0
PRODID:icalendar-ruby
CALSCALE:GREGORIAN
METHOD:PUBLISH
BEGIN:VEVENT
DTSTAMP:20260419T190434Z
UID:5-401186@watsonlevel.tithelysetup2.com
DTSTART:20260913T170000Z
DTEND:20260913T180000Z
CLASS:PUBLIC
CREATED:20260417T170825
DESCRIPTION:Sunday Worship
LAST-MODIFIED:20260417T170825
LOCATION:
SUMMARY:Sunday Worship
URL;VALUE=URI:https://watsonlevel.tithelysetup2.com/events/sunday-worship/2
 026-09-13
END:VEVENT
END:VCALENDAR
