BEGIN:VCALENDAR
VERSION:2.0
PRODID:icalendar-ruby
CALSCALE:GREGORIAN
METHOD:PUBLISH
BEGIN:VEVENT
DTSTAMP:20260419T163911Z
UID:5-401184@watsonlevel.tithelysetup2.com
DTSTART:20260830T170000Z
DTEND:20260830T180000Z
CLASS:PUBLIC
CREATED:20260417T170825
DESCRIPTION:Sunday Worship
LAST-MODIFIED:20260417T170825
LOCATION:
SUMMARY:Sunday Worship
URL;VALUE=URI:https://watsonlevel.tithelysetup2.com/events/sunday-worship/2
 026-08-30
END:VEVENT
END:VCALENDAR
